BEGIN:VCALENDAR
VERSION:2.0
PRODID:-//Theatergeist - ECPv6.15.11//NONSGML v1.0//EN
CALSCALE:GREGORIAN
METHOD:PUBLISH
X-WR-CALNAME:Theatergeist
X-ORIGINAL-URL:https://www.theatergeist.de
X-WR-CALDESC:Veranstaltungen für Theatergeist
REFRESH-INTERVAL;VALUE=DURATION:PT1H
X-Robots-Tag:noindex
X-PUBLISHED-TTL:PT1H
BEGIN:VTIMEZONE
TZID:Europe/Berlin
BEGIN:DAYLIGHT
TZOFFSETFROM:+0100
TZOFFSETTO:+0200
TZNAME:CEST
DTSTART:20250330T010000
END:DAYLIGHT
BEGIN:STANDARD
TZOFFSETFROM:+0200
TZOFFSETTO:+0100
TZNAME:CET
DTSTART:20251026T010000
END:STANDARD
BEGIN:DAYLIGHT
TZOFFSETFROM:+0100
TZOFFSETTO:+0200
TZNAME:CEST
DTSTART:20260329T010000
END:DAYLIGHT
BEGIN:STANDARD
TZOFFSETFROM:+0200
TZOFFSETTO:+0100
TZNAME:CET
DTSTART:20261025T010000
END:STANDARD
BEGIN:DAYLIGHT
TZOFFSETFROM:+0100
TZOFFSETTO:+0200
TZNAME:CEST
DTSTART:20270328T010000
END:DAYLIGHT
BEGIN:STANDARD
TZOFFSETFROM:+0200
TZOFFSETTO:+0100
TZNAME:CET
DTSTART:20271031T010000
END:STANDARD
END:VTIMEZONE
BEGIN:VEVENT
DTSTART;VALUE=DATE:20260422
DTEND;VALUE=DATE:20260424
DTSTAMP:20260420T103013
CREATED:20251102T214622Z
LAST-MODIFIED:20251102T214622Z
UID:3339-1776816000-1776988799@www.theatergeist.de
SUMMARY:ALLES FAMILIE
DESCRIPTION:
URL:https://www.theatergeist.de/event/alles-familie-34/
LOCATION:FEZ Kinderkuturbörse
CATEGORIES:Familie
ATTACH;FMTTYPE=image/jpeg:https://www.theatergeist.de/wp-content/uploads/2023/06/Ragnar-Hueneke-scaled.jpg
END:VEVENT
BEGIN:VEVENT
DTSTART;VALUE=DATE:20260426
DTEND;VALUE=DATE:20260427
DTSTAMP:20260420T103013
CREATED:20251102T214810Z
LAST-MODIFIED:20251102T214810Z
UID:3342-1777161600-1777247999@www.theatergeist.de
SUMMARY:Das NEINhorn
DESCRIPTION:
URL:https://www.theatergeist.de/event/das-neinhorn-88/
LOCATION:Theater Hannover
CATEGORIES:Nein
ATTACH;FMTTYPE=image/jpeg:https://www.theatergeist.de/wp-content/uploads/2022/10/Johann-Karl-3.jpg
END:VEVENT
BEGIN:VEVENT
DTSTART;TZID=Europe/Berlin:20260429T100000
DTEND;TZID=Europe/Berlin:20260429T100000
DTSTAMP:20260420T103013
CREATED:20251102T215001Z
LAST-MODIFIED:20251102T215001Z
UID:3344-1777456800-1777456800@www.theatergeist.de
SUMMARY:DAS SCHÖNSTE EI DER WELT
DESCRIPTION:
URL:https://www.theatergeist.de/event/das-schoenste-ei-der-welt-66/
LOCATION:Spandau Kulturhaus
CATEGORIES:Ei
ATTACH;FMTTYPE=image/jpeg:https://www.theatergeist.de/wp-content/uploads/2021/10/TG_EI_01-scaled.jpg
END:VEVENT
BEGIN:VEVENT
DTSTART;VALUE=DATE:20260502
DTEND;VALUE=DATE:20260503
DTSTAMP:20260420T103013
CREATED:20260116T130652Z
LAST-MODIFIED:20260116T130652Z
UID:3351-1777680000-1777766399@www.theatergeist.de
SUMMARY:Das Schönste Ei der Welt
DESCRIPTION:
URL:https://www.theatergeist.de/event/das-schoenste-ei-der-welt-67/
LOCATION:Marotte Karlsruhe
CATEGORIES:Ei
ATTACH;FMTTYPE=image/jpeg:https://www.theatergeist.de/wp-content/uploads/2022/02/TG_EI_003-scaled.jpg
END:VEVENT
BEGIN:VEVENT
DTSTART;VALUE=DATE:20260503
DTEND;VALUE=DATE:20260504
DTSTAMP:20260420T103013
CREATED:20260116T130943Z
LAST-MODIFIED:20260116T130943Z
UID:3354-1777766400-1777852799@www.theatergeist.de
SUMMARY:Das Schönste Ei der Welt
DESCRIPTION:
URL:https://www.theatergeist.de/event/das-schoenste-ei-der-welt-68/
LOCATION:Saarbrücken Schloß
CATEGORIES:Ei
ATTACH;FMTTYPE=image/jpeg:https://www.theatergeist.de/wp-content/uploads/2022/01/das_schoenste_ei_titel-scaled.jpg
END:VEVENT
BEGIN:VEVENT
DTSTART;TZID=Europe/Berlin:20260527T100000
DTEND;TZID=Europe/Berlin:20260527T100000
DTSTAMP:20260420T103013
CREATED:20260116T131133Z
LAST-MODIFIED:20260116T131133Z
UID:3356-1779876000-1779876000@www.theatergeist.de
SUMMARY:Du hast angefangen! Nein Du!
DESCRIPTION:
URL:https://www.theatergeist.de/event/du-hast-angefangen-nein-du-31/
LOCATION:Paul GerhardGemeinde Spandau
CATEGORIES:Du
ATTACH;FMTTYPE=image/jpeg:https://www.theatergeist.de/wp-content/uploads/2021/12/Du_01.jpg
END:VEVENT
BEGIN:VEVENT
DTSTART;TZID=Europe/Berlin:20260602T100000
DTEND;TZID=Europe/Berlin:20260603T100000
DTSTAMP:20260420T103013
CREATED:20260116T131324Z
LAST-MODIFIED:20260116T132153Z
UID:3359-1780394400-1780480800@www.theatergeist.de
SUMMARY:Das NEINhorn
DESCRIPTION:
URL:https://www.theatergeist.de/event/das-neinhorn-89/
LOCATION:Das Weite Theater
CATEGORIES:Neinhorn
ATTACH;FMTTYPE=image/jpeg:https://www.theatergeist.de/wp-content/uploads/2022/09/das_neinhorn_druck-23-gross-scaled.jpg
END:VEVENT
BEGIN:VEVENT
DTSTART;TZID=Europe/Berlin:20260607T150000
DTEND;TZID=Europe/Berlin:20260607T150000
DTSTAMP:20260420T103013
CREATED:20260116T131434Z
LAST-MODIFIED:20260116T131434Z
UID:3361-1780844400-1780844400@www.theatergeist.de
SUMMARY:Das NEINhorn
DESCRIPTION:
URL:https://www.theatergeist.de/event/das-neinhorn-90/
LOCATION:Das Weite Theater
CATEGORIES:Nein
ATTACH;FMTTYPE=image/jpeg:https://www.theatergeist.de/wp-content/uploads/2022/10/Johann-Karl-3.jpg
END:VEVENT
BEGIN:VEVENT
DTSTART;TZID=Europe/Berlin:20260609T100000
DTEND;TZID=Europe/Berlin:20260610T100000
DTSTAMP:20260420T103013
CREATED:20260116T131549Z
LAST-MODIFIED:20260116T132058Z
UID:3363-1780999200-1781085600@www.theatergeist.de
SUMMARY:Das NEINhorn
DESCRIPTION:
URL:https://www.theatergeist.de/event/das-neinhorn-91/
LOCATION:Das Weite Theater
CATEGORIES:Nein
ATTACH;FMTTYPE=image/jpeg:https://www.theatergeist.de/wp-content/uploads/2023/01/IMG_0906-scaled.jpg
END:VEVENT
BEGIN:VEVENT
DTSTART;TZID=Europe/Berlin:20260707T100000
DTEND;TZID=Europe/Berlin:20260709T100000
DTSTAMP:20260420T103013
CREATED:20260116T131803Z
LAST-MODIFIED:20260116T131803Z
UID:3365-1783418400-1783591200@www.theatergeist.de
SUMMARY:Kleiner Piet - was nun?
DESCRIPTION:
URL:https://www.theatergeist.de/event/kleiner-piet-was-nun-10/
LOCATION:Theater Grashüpfer
CATEGORIES:Piet
ATTACH;FMTTYPE=image/jpeg:https://www.theatergeist.de/wp-content/uploads/2021/10/xKLEINER-PIET-WAS-NUNx-scaled.jpg
END:VEVENT
END:VCALENDAR