BEGIN:VCALENDAR
VERSION:2.0
PRODID:-//Theatergeist - ECPv6.15.11//NONSGML v1.0//EN
CALSCALE:GREGORIAN
METHOD:PUBLISH
X-WR-CALNAME:Theatergeist
X-ORIGINAL-URL:https://www.theatergeist.de
X-WR-CALDESC:Veranstaltungen für Theatergeist
REFRESH-INTERVAL;VALUE=DURATION:PT1H
X-Robots-Tag:noindex
X-PUBLISHED-TTL:PT1H
BEGIN:VTIMEZONE
TZID:Europe/Berlin
BEGIN:DAYLIGHT
TZOFFSETFROM:+0100
TZOFFSETTO:+0200
TZNAME:CEST
DTSTART:20240331T010000
END:DAYLIGHT
BEGIN:STANDARD
TZOFFSETFROM:+0200
TZOFFSETTO:+0100
TZNAME:CET
DTSTART:20241027T010000
END:STANDARD
BEGIN:DAYLIGHT
TZOFFSETFROM:+0100
TZOFFSETTO:+0200
TZNAME:CEST
DTSTART:20250330T010000
END:DAYLIGHT
BEGIN:STANDARD
TZOFFSETFROM:+0200
TZOFFSETTO:+0100
TZNAME:CET
DTSTART:20251026T010000
END:STANDARD
BEGIN:DAYLIGHT
TZOFFSETFROM:+0100
TZOFFSETTO:+0200
TZNAME:CEST
DTSTART:20260329T010000
END:DAYLIGHT
BEGIN:STANDARD
TZOFFSETFROM:+0200
TZOFFSETTO:+0100
TZNAME:CET
DTSTART:20261025T010000
END:STANDARD
BEGIN:DAYLIGHT
TZOFFSETFROM:+0100
TZOFFSETTO:+0200
TZNAME:CEST
DTSTART:20270328T010000
END:DAYLIGHT
BEGIN:STANDARD
TZOFFSETFROM:+0200
TZOFFSETTO:+0100
TZNAME:CET
DTSTART:20271031T010000
END:STANDARD
END:VTIMEZONE
BEGIN:VEVENT
DTSTART;VALUE=DATE:20260422
DTEND;VALUE=DATE:20260424
DTSTAMP:20260424T112522
CREATED:20251102T214622Z
LAST-MODIFIED:20251102T214622Z
UID:3339-1776816000-1776988799@www.theatergeist.de
SUMMARY:ALLES FAMILIE
DESCRIPTION:
URL:https://www.theatergeist.de/event/alles-familie-34/
LOCATION:FEZ Kinderkuturbörse
CATEGORIES:Familie
ATTACH;FMTTYPE=image/jpeg:https://www.theatergeist.de/wp-content/uploads/2023/06/Ragnar-Hueneke-scaled.jpg
END:VEVENT
BEGIN:VEVENT
DTSTART;TZID=Europe/Berlin:20260326T100000
DTEND;TZID=Europe/Berlin:20260327T100000
DTSTAMP:20260424T112522
CREATED:20251102T214459Z
LAST-MODIFIED:20251102T214459Z
UID:3337-1774519200-1774605600@www.theatergeist.de
SUMMARY:DAS SCHÖNSTE EI DER WELT
DESCRIPTION:
URL:https://www.theatergeist.de/event/das-schoenste-ei-der-welt-65/
LOCATION:Wolf Dietrich Schnurre Bibliothek
CATEGORIES:Ei
ATTACH;FMTTYPE=image/jpeg:https://www.theatergeist.de/wp-content/uploads/2021/12/TG_EI_014-scaled.jpg
END:VEVENT
BEGIN:VEVENT
DTSTART;VALUE=DATE:20260322
DTEND;VALUE=DATE:20260324
DTSTAMP:20260424T112522
CREATED:20251102T214310Z
LAST-MODIFIED:20251102T214310Z
UID:3335-1774137600-1774310399@www.theatergeist.de
SUMMARY:DAS SCHÖNSTE EI DER WELT
DESCRIPTION:
URL:https://www.theatergeist.de/event/das-schoenste-ei-der-welt-64/
LOCATION:Graz Minoriten
CATEGORIES:Ei
ATTACH;FMTTYPE=image/jpeg:https://www.theatergeist.de/wp-content/uploads/2021/12/1-scaled.jpg
END:VEVENT
BEGIN:VEVENT
DTSTART;VALUE=DATE:20260319
DTEND;VALUE=DATE:20260322
DTSTAMP:20260424T112522
CREATED:20251102T214127Z
LAST-MODIFIED:20251102T214127Z
UID:3333-1773878400-1774137599@www.theatergeist.de
SUMMARY:DAS SCHÖNSTE EI DER WELT
DESCRIPTION:
URL:https://www.theatergeist.de/event/das-schoenste-ei-der-welt-63/
LOCATION:Linz
CATEGORIES:Ei
ATTACH;FMTTYPE=image/jpeg:https://www.theatergeist.de/wp-content/uploads/2021/12/1-scaled.jpg
END:VEVENT
BEGIN:VEVENT
DTSTART;VALUE=DATE:20260315
DTEND;VALUE=DATE:20260317
DTSTAMP:20260424T112522
CREATED:20251102T213148Z
LAST-MODIFIED:20251102T213148Z
UID:3331-1773532800-1773705599@www.theatergeist.de
SUMMARY:DAS SCHÖNSTE EI DER WELT
DESCRIPTION:
URL:https://www.theatergeist.de/event/das-schoenste-ei-der-welt-62/
LOCATION:T-Werk Potsdam
CATEGORIES:Ei
ATTACH;FMTTYPE=image/jpeg:https://www.theatergeist.de/wp-content/uploads/2021/12/dasschoensteei_titel-1-scaled.jpg
END:VEVENT
BEGIN:VEVENT
DTSTART;VALUE=DATE:20260308
DTEND;VALUE=DATE:20260310
DTSTAMP:20260424T112522
CREATED:20251102T212253Z
LAST-MODIFIED:20251102T212253Z
UID:3329-1772928000-1773100799@www.theatergeist.de
SUMMARY:DAS SCHÖNSTE EI DER WELT
DESCRIPTION:
URL:https://www.theatergeist.de/event/das-schoenste-ei-der-welt-61/
LOCATION:Theater Brandenburg
CATEGORIES:Ei
ATTACH;FMTTYPE=image/jpeg:https://www.theatergeist.de/wp-content/uploads/2022/01/das_schoenste_ei_titel-scaled.jpg
END:VEVENT
BEGIN:VEVENT
DTSTART;TZID=Europe/Berlin:20260303T100000
DTEND;TZID=Europe/Berlin:20260305T100000
DTSTAMP:20260424T112522
CREATED:20251102T212053Z
LAST-MODIFIED:20251102T212053Z
UID:3327-1772532000-1772704800@www.theatergeist.de
SUMMARY:DAS SCHÖNSTE EI DER WELT
DESCRIPTION:
URL:https://www.theatergeist.de/event/das-schoenste-ei-der-welt-60/
LOCATION:Zitadelle Spandau
CATEGORIES:Ei
ATTACH;FMTTYPE=image/jpeg:https://www.theatergeist.de/wp-content/uploads/2021/12/TG_EI_014-scaled.jpg
END:VEVENT
BEGIN:VEVENT
DTSTART;TZID=Europe/Berlin:20260301T150000
DTEND;TZID=Europe/Berlin:20260301T150000
DTSTAMP:20260424T112522
CREATED:20251102T211854Z
LAST-MODIFIED:20251102T211854Z
UID:3325-1772377200-1772377200@www.theatergeist.de
SUMMARY:DAS SCHÖNSTE EI DER WELT
DESCRIPTION:
URL:https://www.theatergeist.de/event/das-schoenste-ei-der-welt-59/
LOCATION:Zitadelle Spandau
CATEGORIES:Ei
ATTACH;FMTTYPE=image/jpeg:https://www.theatergeist.de/wp-content/uploads/2021/12/TG_EI_014-scaled.jpg
END:VEVENT
BEGIN:VEVENT
DTSTART;VALUE=DATE:20260225
DTEND;VALUE=DATE:20260227
DTSTAMP:20260424T112522
CREATED:20251102T211613Z
LAST-MODIFIED:20251102T211613Z
UID:3323-1771977600-1772150399@www.theatergeist.de
SUMMARY:ALLES FAMILIE
DESCRIPTION:
URL:https://www.theatergeist.de/event/alles-familie-33/
LOCATION:Stuttgart
CATEGORIES:Familie
ATTACH;FMTTYPE=image/jpeg:https://www.theatergeist.de/wp-content/uploads/2023/12/Ragnar-Hueneke-18-scaled.jpg
END:VEVENT
BEGIN:VEVENT
DTSTART;VALUE=DATE:20260126
DTEND;VALUE=DATE:20260128
DTSTAMP:20260424T112522
CREATED:20251102T211416Z
LAST-MODIFIED:20251102T211416Z
UID:3321-1769385600-1769558399@www.theatergeist.de
SUMMARY:Das NEINhorn
DESCRIPTION:
URL:https://www.theatergeist.de/event/das-neinhorn-87/
LOCATION:Gelsenkirchen Consoltheater
CATEGORIES:Nein
ATTACH;FMTTYPE=image/jpeg:https://www.theatergeist.de/wp-content/uploads/2022/10/Johann-Karl-3.jpg
END:VEVENT
BEGIN:VEVENT
DTSTART;TZID=Europe/Berlin:20260121T100000
DTEND;TZID=Europe/Berlin:20260121T100000
DTSTAMP:20260424T112522
CREATED:20251102T211240Z
LAST-MODIFIED:20251102T211240Z
UID:3319-1768989600-1768989600@www.theatergeist.de
SUMMARY:Das Kleine Ich bin Ich
DESCRIPTION:
URL:https://www.theatergeist.de/event/das-kleine-ich-bin-ich-45/
LOCATION:Spandau Kulturhaus
CATEGORIES:ICH
ATTACH;FMTTYPE=image/jpeg:https://www.theatergeist.de/wp-content/uploads/2022/01/PICT0751.jpg
END:VEVENT
BEGIN:VEVENT
DTSTART;TZID=Europe/Berlin:20260113T100000
DTEND;TZID=Europe/Berlin:20260114T100000
DTSTAMP:20260424T112522
CREATED:20251102T210708Z
LAST-MODIFIED:20251102T210708Z
UID:3317-1768298400-1768384800@www.theatergeist.de
SUMMARY:Du hast angefangen! Nein DU!
DESCRIPTION:
URL:https://www.theatergeist.de/event/du-hast-angefangen-nein-du-30/
LOCATION:Schaubude Berlin
CATEGORIES:Du
ATTACH;FMTTYPE=image/jpeg:https://www.theatergeist.de/wp-content/uploads/2022/01/4-2-scaled.jpg
END:VEVENT
BEGIN:VEVENT
DTSTART;TZID=Europe/Berlin:20260110T150000
DTEND;TZID=Europe/Berlin:20260111T150000
DTSTAMP:20260424T112522
CREATED:20251102T210454Z
LAST-MODIFIED:20251102T210454Z
UID:3315-1768057200-1768143600@www.theatergeist.de
SUMMARY:Du hast angefangen! Nein Du!
DESCRIPTION:
URL:https://www.theatergeist.de/event/du-hast-angefangen-nein-du-29/
LOCATION:Schaubude Berlin
CATEGORIES:Du
ATTACH;FMTTYPE=image/jpeg:https://www.theatergeist.de/wp-content/uploads/2022/02/Presse-und-Slyder-scaled.jpg
END:VEVENT
BEGIN:VEVENT
DTSTART;TZID=Europe/Berlin:20251129T153000
DTEND;TZID=Europe/Berlin:20251129T153000
DTSTAMP:20260424T112522
CREATED:20250618T211244Z
LAST-MODIFIED:20250618T211244Z
UID:3302-1764430200-1764430200@www.theatergeist.de
SUMMARY:Das Schönste Ei der Welt
DESCRIPTION:
URL:https://www.theatergeist.de/event/das-schoenste-ei-der-welt-58/
LOCATION:Fürstenwerder
CATEGORIES:Ei
ATTACH;FMTTYPE=image/jpeg:https://www.theatergeist.de/wp-content/uploads/2021/10/TG_EI_010-scaled.jpg
END:VEVENT
BEGIN:VEVENT
DTSTART;TZID=Europe/Berlin:20251125T100000
DTEND;TZID=Europe/Berlin:20251126T100000
DTSTAMP:20260424T112522
CREATED:20250618T211047Z
LAST-MODIFIED:20250618T211047Z
UID:3300-1764064800-1764151200@www.theatergeist.de
SUMMARY:ALLES FAMILIE
DESCRIPTION:
URL:https://www.theatergeist.de/event/alles-familie-32/
LOCATION:FEZ Berlin
CATEGORIES:Familie
ATTACH;FMTTYPE=image/jpeg:https://www.theatergeist.de/wp-content/uploads/2023/12/Ragnar-Hueneke-21-scaled.jpg
END:VEVENT
BEGIN:VEVENT
DTSTART;VALUE=DATE:20251122
DTEND;VALUE=DATE:20251124
DTSTAMP:20260424T112522
CREATED:20250618T210904Z
LAST-MODIFIED:20250618T210904Z
UID:3297-1763769600-1763942399@www.theatergeist.de
SUMMARY:Das NEINhorn
DESCRIPTION:
URL:https://www.theatergeist.de/event/das-neinhorn-86/
LOCATION:FEZ Puppenfestival
CATEGORIES:Nein
ATTACH;FMTTYPE=image/jpeg:https://www.theatergeist.de/wp-content/uploads/2022/10/Johann-Karl-3.jpg
END:VEVENT
BEGIN:VEVENT
DTSTART;VALUE=DATE:20251115
DTEND;VALUE=DATE:20251120
DTSTAMP:20260424T112522
CREATED:20250618T210613Z
LAST-MODIFIED:20250618T210613Z
UID:3295-1763164800-1763596799@www.theatergeist.de
SUMMARY:ALLES FAMILIE
DESCRIPTION:
URL:https://www.theatergeist.de/event/alles-familie-31/
LOCATION:Glanzstücke Hannover
CATEGORIES:Familie
ATTACH;FMTTYPE=image/jpeg:https://www.theatergeist.de/wp-content/uploads/2023/11/grosses-Foto-Starterfoto-auf-der-Seite-scaled.jpg
END:VEVENT
BEGIN:VEVENT
DTSTART;TZID=Europe/Berlin:20251102T150000
DTEND;TZID=Europe/Berlin:20251102T150000
DTSTAMP:20260424T112522
CREATED:20250618T210416Z
LAST-MODIFIED:20250618T210416Z
UID:3293-1762095600-1762095600@www.theatergeist.de
SUMMARY:Das Schönste Ei der Welt
DESCRIPTION:
URL:https://www.theatergeist.de/event/das-schoenste-ei-der-welt-57/
LOCATION:Saarbrücken Schloß
CATEGORIES:Ei
ATTACH;FMTTYPE=image/jpeg:https://www.theatergeist.de/wp-content/uploads/2022/01/das_schoenste_ei_titel-scaled.jpg
END:VEVENT
BEGIN:VEVENT
DTSTART;VALUE=DATE:20251031
DTEND;VALUE=DATE:20251101
DTSTAMP:20260424T112522
CREATED:20250618T210240Z
LAST-MODIFIED:20250618T210240Z
UID:3291-1761868800-1761955199@www.theatergeist.de
SUMMARY:Das Kleine Ich bin Ich
DESCRIPTION:
URL:https://www.theatergeist.de/event/das-kleine-ich-bin-ich-44/
LOCATION:Burghof Lörrach
CATEGORIES:ICH
ATTACH;FMTTYPE=image/jpeg:https://www.theatergeist.de/wp-content/uploads/2022/01/PICT0751.jpg
END:VEVENT
BEGIN:VEVENT
DTSTART;TZID=Europe/Berlin:20251016T100000
DTEND;TZID=Europe/Berlin:20251017T100000
DTSTAMP:20260424T112522
CREATED:20250618T210121Z
LAST-MODIFIED:20250618T210121Z
UID:3289-1760608800-1760695200@www.theatergeist.de
SUMMARY:Das Kleine Ich bin Ich
DESCRIPTION:
URL:https://www.theatergeist.de/event/das-kleine-ich-bin-ich-43/
LOCATION:Wolfdietrich Schnurre Bibliothek\, gefördert durch die Senatsverwaltung Kultur und Europa mit den Mitteln des KIA -Programms Pankow
CATEGORIES:ICH
ATTACH;FMTTYPE=image/jpeg:https://www.theatergeist.de/wp-content/uploads/2022/01/PICT0751.jpg
END:VEVENT
BEGIN:VEVENT
DTSTART;VALUE=DATE:20251012
DTEND;VALUE=DATE:20251015
DTSTAMP:20260424T112522
CREATED:20250618T205935Z
LAST-MODIFIED:20250618T210011Z
UID:3287-1760227200-1760486399@www.theatergeist.de
SUMMARY:Das NEINhorn
DESCRIPTION:
URL:https://www.theatergeist.de/event/das-neinhorn-85/
LOCATION:T-Werk Potsdam
CATEGORIES:Nein
ATTACH;FMTTYPE=image/jpeg:https://www.theatergeist.de/wp-content/uploads/2022/10/Johann-Karl-5-scaled.jpg
END:VEVENT
BEGIN:VEVENT
DTSTART;TZID=Europe/Berlin:20251010T100000
DTEND;TZID=Europe/Berlin:20251010T100000
DTSTAMP:20260424T112522
CREATED:20250618T205822Z
LAST-MODIFIED:20250618T205822Z
UID:3284-1760090400-1760090400@www.theatergeist.de
SUMMARY:Das Kleine Ich bin Ich
DESCRIPTION:
URL:https://www.theatergeist.de/event/das-kleine-ich-bin-ich-42/
LOCATION:KiMuThea Staaken
CATEGORIES:ICH
ATTACH;FMTTYPE=image/jpeg:https://www.theatergeist.de/wp-content/uploads/2022/01/PICT0751.jpg
END:VEVENT
BEGIN:VEVENT
DTSTART;TZID=Europe/Berlin:20250927T150000
DTEND;TZID=Europe/Berlin:20250927T150000
DTSTAMP:20260424T112522
CREATED:20250618T205341Z
LAST-MODIFIED:20250618T205341Z
UID:3281-1758985200-1758985200@www.theatergeist.de
SUMMARY:ALLES FAMILIE
DESCRIPTION:
URL:https://www.theatergeist.de/event/alles-familie-30/
LOCATION:Fantakel Greifswald
CATEGORIES:Familie
ATTACH;FMTTYPE=image/png:https://www.theatergeist.de/wp-content/uploads/2024/11/AF_Screenshot1_Jubel.png
END:VEVENT
BEGIN:VEVENT
DTSTART;TZID=Europe/Berlin:20250924T100000
DTEND;TZID=Europe/Berlin:20250924T100000
DTSTAMP:20260424T112522
CREATED:20250618T205232Z
LAST-MODIFIED:20250618T205232Z
UID:3278-1758708000-1758708000@www.theatergeist.de
SUMMARY:ALLES FAMILIE
DESCRIPTION:
URL:https://www.theatergeist.de/event/alles-familie-29/
LOCATION:Friedberg
CATEGORIES:Familie
ATTACH;FMTTYPE=image/jpeg:https://www.theatergeist.de/wp-content/uploads/2023/12/Ragnar-Hueneke-21-scaled.jpg
END:VEVENT
BEGIN:VEVENT
DTSTART;TZID=Europe/Berlin:20250923T100000
DTEND;TZID=Europe/Berlin:20250923T100000
DTSTAMP:20260424T112522
CREATED:20250618T205056Z
LAST-MODIFIED:20250618T205056Z
UID:3275-1758621600-1758621600@www.theatergeist.de
SUMMARY:Das Kleine Ich bin Ich
DESCRIPTION:
URL:https://www.theatergeist.de/event/das-kleine-ich-bin-ich-41/
LOCATION:Vorderhaus Freiburg
CATEGORIES:ICH
ATTACH;FMTTYPE=image/jpeg:https://www.theatergeist.de/wp-content/uploads/2022/01/PICT0751.jpg
END:VEVENT
BEGIN:VEVENT
DTSTART;VALUE=DATE:20250921
DTEND;VALUE=DATE:20250923
DTSTAMP:20260424T112522
CREATED:20250618T204841Z
LAST-MODIFIED:20250618T205524Z
UID:3273-1758412800-1758585599@www.theatergeist.de
SUMMARY:ALLES FAMILIE
DESCRIPTION:
URL:https://www.theatergeist.de/event/alles-familie-28/
LOCATION:Trier TUFA
CATEGORIES:Familie
ATTACH;FMTTYPE=image/png:https://www.theatergeist.de/wp-content/uploads/2024/11/AF_Screenshot1_Jubel.png
END:VEVENT
BEGIN:VEVENT
DTSTART;TZID=Europe/Berlin:20250917T100000
DTEND;TZID=Europe/Berlin:20250917T170000
DTSTAMP:20260424T112522
CREATED:20250618T204649Z
LAST-MODIFIED:20250618T204649Z
UID:3271-1758103200-1758128400@www.theatergeist.de
SUMMARY:Das Kleine Ich bin Ich
DESCRIPTION:
URL:https://www.theatergeist.de/event/das-kleine-ich-bin-ich-40/
LOCATION:Spandau Kulturhaus
CATEGORIES:ICH
ATTACH;FMTTYPE=image/jpeg:https://www.theatergeist.de/wp-content/uploads/2022/01/PICT0751.jpg
END:VEVENT
BEGIN:VEVENT
DTSTART;TZID=Europe/Berlin:20250706T100000
DTEND;TZID=Europe/Berlin:20250710T100000
DTSTAMP:20260424T112522
CREATED:20250106T163243Z
LAST-MODIFIED:20250610T082939Z
UID:3243-1751796000-1752141600@www.theatergeist.de
SUMMARY:Kleiner Piet-was nun
DESCRIPTION:
URL:https://www.theatergeist.de/event/kleiner-piet-was-nun-9/
LOCATION:Theater Grashüpfer
CATEGORIES:Piet
ATTACH;FMTTYPE=image/jpeg:https://www.theatergeist.de/wp-content/uploads/2021/10/xKLEINER-PIET-WAS-NUNx-scaled.jpg
END:VEVENT
BEGIN:VEVENT
DTSTART;VALUE=DATE:20250705
DTEND;VALUE=DATE:20250706
DTSTAMP:20260424T112522
CREATED:20250106T163108Z
LAST-MODIFIED:20250106T163108Z
UID:3239-1751673600-1751759999@www.theatergeist.de
SUMMARY:Das NEINhorn
DESCRIPTION:
URL:https://www.theatergeist.de/event/das-neinhorn-84/
LOCATION:Dominianerkloster Prenzlau
CATEGORIES:Nein
ATTACH;FMTTYPE=image/jpeg:https://www.theatergeist.de/wp-content/uploads/2023/01/IMG_0906-1.jpg
END:VEVENT
BEGIN:VEVENT
DTSTART;TZID=Europe/Berlin:20250702T100000
DTEND;TZID=Europe/Berlin:20250703T100000
DTSTAMP:20260424T112522
CREATED:20250618T204433Z
LAST-MODIFIED:20250618T204433Z
UID:3269-1751450400-1751536800@www.theatergeist.de
SUMMARY:Du hast angefangen! Nein Du!
DESCRIPTION:
URL:https://www.theatergeist.de/event/du-hast-angefangen-nein-du-28/
LOCATION:Wolfdietrich Schnurre Bibliothek\, gefördert durch die Senatsverwaltung Kultur und Europa mit den Mitteln des KIA -Programms Pankow
CATEGORIES:Du
ATTACH;FMTTYPE=image/jpeg:https://www.theatergeist.de/wp-content/uploads/2022/01/POSTKARTE-1.jpeg
END:VEVENT
END:VCALENDAR