BEGIN:VCALENDAR
VERSION:2.0
PRODID:-//Theatergeist - ECPv6.15.11//NONSGML v1.0//EN
CALSCALE:GREGORIAN
METHOD:PUBLISH
X-WR-CALNAME:Theatergeist
X-ORIGINAL-URL:https://www.theatergeist.de
X-WR-CALDESC:Veranstaltungen für Theatergeist
REFRESH-INTERVAL;VALUE=DURATION:PT1H
X-Robots-Tag:noindex
X-PUBLISHED-TTL:PT1H
BEGIN:VTIMEZONE
TZID:Europe/Berlin
BEGIN:DAYLIGHT
TZOFFSETFROM:+0100
TZOFFSETTO:+0200
TZNAME:CEST
DTSTART:20240331T010000
END:DAYLIGHT
BEGIN:STANDARD
TZOFFSETFROM:+0200
TZOFFSETTO:+0100
TZNAME:CET
DTSTART:20241027T010000
END:STANDARD
BEGIN:DAYLIGHT
TZOFFSETFROM:+0100
TZOFFSETTO:+0200
TZNAME:CEST
DTSTART:20250330T010000
END:DAYLIGHT
BEGIN:STANDARD
TZOFFSETFROM:+0200
TZOFFSETTO:+0100
TZNAME:CET
DTSTART:20251026T010000
END:STANDARD
BEGIN:DAYLIGHT
TZOFFSETFROM:+0100
TZOFFSETTO:+0200
TZNAME:CEST
DTSTART:20260329T010000
END:DAYLIGHT
BEGIN:STANDARD
TZOFFSETFROM:+0200
TZOFFSETTO:+0100
TZNAME:CET
DTSTART:20261025T010000
END:STANDARD
END:VTIMEZONE
BEGIN:VEVENT
DTSTART;TZID=Europe/Berlin:20251010T100000
DTEND;TZID=Europe/Berlin:20251010T100000
DTSTAMP:20260424T151437
CREATED:20250618T205822Z
LAST-MODIFIED:20250618T205822Z
UID:3284-1760090400-1760090400@www.theatergeist.de
SUMMARY:Das Kleine Ich bin Ich
DESCRIPTION:
URL:https://www.theatergeist.de/event/das-kleine-ich-bin-ich-42/
LOCATION:KiMuThea Staaken
CATEGORIES:ICH
ATTACH;FMTTYPE=image/jpeg:https://www.theatergeist.de/wp-content/uploads/2022/01/PICT0751.jpg
END:VEVENT
BEGIN:VEVENT
DTSTART;VALUE=DATE:20251012
DTEND;VALUE=DATE:20251015
DTSTAMP:20260424T151437
CREATED:20250618T205935Z
LAST-MODIFIED:20250618T210011Z
UID:3287-1760227200-1760486399@www.theatergeist.de
SUMMARY:Das NEINhorn
DESCRIPTION:
URL:https://www.theatergeist.de/event/das-neinhorn-85/
LOCATION:T-Werk Potsdam
CATEGORIES:Nein
ATTACH;FMTTYPE=image/jpeg:https://www.theatergeist.de/wp-content/uploads/2022/10/Johann-Karl-5-scaled.jpg
END:VEVENT
BEGIN:VEVENT
DTSTART;TZID=Europe/Berlin:20251016T100000
DTEND;TZID=Europe/Berlin:20251017T100000
DTSTAMP:20260424T151437
CREATED:20250618T210121Z
LAST-MODIFIED:20250618T210121Z
UID:3289-1760608800-1760695200@www.theatergeist.de
SUMMARY:Das Kleine Ich bin Ich
DESCRIPTION:
URL:https://www.theatergeist.de/event/das-kleine-ich-bin-ich-43/
LOCATION:Wolfdietrich Schnurre Bibliothek\, gefördert durch die Senatsverwaltung Kultur und Europa mit den Mitteln des KIA -Programms Pankow
CATEGORIES:ICH
ATTACH;FMTTYPE=image/jpeg:https://www.theatergeist.de/wp-content/uploads/2022/01/PICT0751.jpg
END:VEVENT
BEGIN:VEVENT
DTSTART;VALUE=DATE:20251031
DTEND;VALUE=DATE:20251101
DTSTAMP:20260424T151437
CREATED:20250618T210240Z
LAST-MODIFIED:20250618T210240Z
UID:3291-1761868800-1761955199@www.theatergeist.de
SUMMARY:Das Kleine Ich bin Ich
DESCRIPTION:
URL:https://www.theatergeist.de/event/das-kleine-ich-bin-ich-44/
LOCATION:Burghof Lörrach
CATEGORIES:ICH
ATTACH;FMTTYPE=image/jpeg:https://www.theatergeist.de/wp-content/uploads/2022/01/PICT0751.jpg
END:VEVENT
END:VCALENDAR