BEGIN:VCALENDAR
VERSION:2.0
PRODID:-//Theatergeist - ECPv6.15.11//NONSGML v1.0//EN
CALSCALE:GREGORIAN
METHOD:PUBLISH
X-WR-CALNAME:Theatergeist
X-ORIGINAL-URL:https://www.theatergeist.de
X-WR-CALDESC:Veranstaltungen für Theatergeist
REFRESH-INTERVAL;VALUE=DURATION:PT1H
X-Robots-Tag:noindex
X-PUBLISHED-TTL:PT1H
BEGIN:VTIMEZONE
TZID:Europe/Berlin
BEGIN:DAYLIGHT
TZOFFSETFROM:+0100
TZOFFSETTO:+0200
TZNAME:CEST
DTSTART:20250330T010000
END:DAYLIGHT
BEGIN:STANDARD
TZOFFSETFROM:+0200
TZOFFSETTO:+0100
TZNAME:CET
DTSTART:20251026T010000
END:STANDARD
BEGIN:DAYLIGHT
TZOFFSETFROM:+0100
TZOFFSETTO:+0200
TZNAME:CEST
DTSTART:20260329T010000
END:DAYLIGHT
BEGIN:STANDARD
TZOFFSETFROM:+0200
TZOFFSETTO:+0100
TZNAME:CET
DTSTART:20261025T010000
END:STANDARD
BEGIN:DAYLIGHT
TZOFFSETFROM:+0100
TZOFFSETTO:+0200
TZNAME:CEST
DTSTART:20270328T010000
END:DAYLIGHT
BEGIN:STANDARD
TZOFFSETFROM:+0200
TZOFFSETTO:+0100
TZNAME:CET
DTSTART:20271031T010000
END:STANDARD
END:VTIMEZONE
BEGIN:VEVENT
DTSTART;TZID=Europe/Berlin:20260301T150000
DTEND;TZID=Europe/Berlin:20260301T150000
DTSTAMP:20260422T120726
CREATED:20251102T211854Z
LAST-MODIFIED:20251102T211854Z
UID:3325-1772377200-1772377200@www.theatergeist.de
SUMMARY:DAS SCHÖNSTE EI DER WELT
DESCRIPTION:
URL:https://www.theatergeist.de/event/das-schoenste-ei-der-welt-59/
LOCATION:Zitadelle Spandau
CATEGORIES:Ei
ATTACH;FMTTYPE=image/jpeg:https://www.theatergeist.de/wp-content/uploads/2021/12/TG_EI_014-scaled.jpg
END:VEVENT
BEGIN:VEVENT
DTSTART;TZID=Europe/Berlin:20260303T100000
DTEND;TZID=Europe/Berlin:20260305T100000
DTSTAMP:20260422T120726
CREATED:20251102T212053Z
LAST-MODIFIED:20251102T212053Z
UID:3327-1772532000-1772704800@www.theatergeist.de
SUMMARY:DAS SCHÖNSTE EI DER WELT
DESCRIPTION:
URL:https://www.theatergeist.de/event/das-schoenste-ei-der-welt-60/
LOCATION:Zitadelle Spandau
CATEGORIES:Ei
ATTACH;FMTTYPE=image/jpeg:https://www.theatergeist.de/wp-content/uploads/2021/12/TG_EI_014-scaled.jpg
END:VEVENT
BEGIN:VEVENT
DTSTART;VALUE=DATE:20260308
DTEND;VALUE=DATE:20260310
DTSTAMP:20260422T120726
CREATED:20251102T212253Z
LAST-MODIFIED:20251102T212253Z
UID:3329-1772928000-1773100799@www.theatergeist.de
SUMMARY:DAS SCHÖNSTE EI DER WELT
DESCRIPTION:
URL:https://www.theatergeist.de/event/das-schoenste-ei-der-welt-61/
LOCATION:Theater Brandenburg
CATEGORIES:Ei
ATTACH;FMTTYPE=image/jpeg:https://www.theatergeist.de/wp-content/uploads/2022/01/das_schoenste_ei_titel-scaled.jpg
END:VEVENT
BEGIN:VEVENT
DTSTART;VALUE=DATE:20260315
DTEND;VALUE=DATE:20260317
DTSTAMP:20260422T120726
CREATED:20251102T213148Z
LAST-MODIFIED:20251102T213148Z
UID:3331-1773532800-1773705599@www.theatergeist.de
SUMMARY:DAS SCHÖNSTE EI DER WELT
DESCRIPTION:
URL:https://www.theatergeist.de/event/das-schoenste-ei-der-welt-62/
LOCATION:T-Werk Potsdam
CATEGORIES:Ei
ATTACH;FMTTYPE=image/jpeg:https://www.theatergeist.de/wp-content/uploads/2021/12/dasschoensteei_titel-1-scaled.jpg
END:VEVENT
BEGIN:VEVENT
DTSTART;VALUE=DATE:20260319
DTEND;VALUE=DATE:20260322
DTSTAMP:20260422T120726
CREATED:20251102T214127Z
LAST-MODIFIED:20251102T214127Z
UID:3333-1773878400-1774137599@www.theatergeist.de
SUMMARY:DAS SCHÖNSTE EI DER WELT
DESCRIPTION:
URL:https://www.theatergeist.de/event/das-schoenste-ei-der-welt-63/
LOCATION:Linz
CATEGORIES:Ei
ATTACH;FMTTYPE=image/jpeg:https://www.theatergeist.de/wp-content/uploads/2021/12/1-scaled.jpg
END:VEVENT
BEGIN:VEVENT
DTSTART;VALUE=DATE:20260322
DTEND;VALUE=DATE:20260324
DTSTAMP:20260422T120726
CREATED:20251102T214310Z
LAST-MODIFIED:20251102T214310Z
UID:3335-1774137600-1774310399@www.theatergeist.de
SUMMARY:DAS SCHÖNSTE EI DER WELT
DESCRIPTION:
URL:https://www.theatergeist.de/event/das-schoenste-ei-der-welt-64/
LOCATION:Graz Minoriten
CATEGORIES:Ei
ATTACH;FMTTYPE=image/jpeg:https://www.theatergeist.de/wp-content/uploads/2021/12/1-scaled.jpg
END:VEVENT
BEGIN:VEVENT
DTSTART;TZID=Europe/Berlin:20260326T100000
DTEND;TZID=Europe/Berlin:20260327T100000
DTSTAMP:20260422T120726
CREATED:20251102T214459Z
LAST-MODIFIED:20251102T214459Z
UID:3337-1774519200-1774605600@www.theatergeist.de
SUMMARY:DAS SCHÖNSTE EI DER WELT
DESCRIPTION:
URL:https://www.theatergeist.de/event/das-schoenste-ei-der-welt-65/
LOCATION:Wolf Dietrich Schnurre Bibliothek
CATEGORIES:Ei
ATTACH;FMTTYPE=image/jpeg:https://www.theatergeist.de/wp-content/uploads/2021/12/TG_EI_014-scaled.jpg
END:VEVENT
END:VCALENDAR